BEGIN:VCALENDAR
VERSION:2.0
PRODID:-//SIDEARM Sports//NONSGML SIDEARM//EN
X-WR-CALNAME:Women's Polo - cornellbigred.com
X-PUBLISHED-TTL:PT120M
BEGIN:VEVENT
UID:vcal_63008-cornellbigred.com
DTSTAMP:20260425T162706Z
DTSTART:20251018T220000Z
DTEND:20251019T010000Z
LOCATION:Ithaca\, N.Y., Oxley Equestrian Center
SUMMARY:[W] Cornell Women's Polo vs Marlan Farm Polo Club
DESCRIPTION:[W] Cornell Women's Polo vs Marlan Farm Polo Club\nW 12-11\n
URL:https://cornellbigred.com/calendar.aspx?game_id=63008&amp;sport_id=27
PRIORITY:3
END:VEVENT
BEGIN:VEVENT
UID:vcal_63009-cornellbigred.com
DTSTAMP:20260425T162706Z
DTSTART:20251024T200000Z
DTEND:20251024T230000Z
LOCATION:Charlottesville\, VA
SUMMARY:[L] Cornell Women's Polo at University of Virginia
DESCRIPTION:[L] Cornell Women's Polo at University of Virginia\nL 6-8\n
URL:https://cornellbigred.com/calendar.aspx?game_id=63009&amp;sport_id=27
PRIORITY:3
END:VEVENT
BEGIN:VEVENT
UID:vcal_63065-cornellbigred.com
DTSTAMP:20260425T162706Z
DTSTART:20251026T150000Z
DTEND:20251026T180000Z
LOCATION:Charlottesville\, VA
SUMMARY:[W] Cornell Women's Polo vs University of Kentucky - Consolation Game
DESCRIPTION:[W] Cornell Women's Polo vs University of Kentucky - Consolation Game\nW 6-1\n
URL:https://cornellbigred.com/calendar.aspx?game_id=63065&amp;sport_id=27
PRIORITY:3
END:VEVENT
BEGIN:VEVENT
UID:vcal_63074-cornellbigred.com
DTSTAMP:20260425T162706Z
DTSTART:20251026T150000Z
DTEND:20251026T180000Z
LOCATION:Charlottesville\, VA
SUMMARY:[L] Cornell Women's Polo vs Texas A&M University - Consolation Game
DESCRIPTION:[L] Cornell Women's Polo vs Texas A&M University - Consolation Game\nL 3-7\n
URL:https://cornellbigred.com/calendar.aspx?game_id=63074&amp;sport_id=27
PRIORITY:3
END:VEVENT
BEGIN:VEVENT
UID:vcal_63010-cornellbigred.com
DTSTAMP:20260425T162706Z
DTSTART:20251101T190000Z
DTEND:20251101T220000Z
LOCATION:Cambridge\, MA
SUMMARY:[W] Cornell Women's Polo at Harvard University
DESCRIPTION:[W] Cornell Women's Polo at Harvard University\nW 23-4\n
URL:https://cornellbigred.com/calendar.aspx?game_id=63010&amp;sport_id=27
PRIORITY:3
END:VEVENT
BEGIN:VEVENT
UID:vcal_63011-cornellbigred.com
DTSTAMP:20260425T162706Z
DTSTART:20251102T200000Z
DTEND:20251102T230000Z
LOCATION:Durham\, NH
SUMMARY:[W] Cornell Women's Polo at University of New Hampshire
DESCRIPTION:[W] Cornell Women's Polo at University of New Hampshire\nW 20-10\n
URL:https://cornellbigred.com/calendar.aspx?game_id=63011&amp;sport_id=27
PRIORITY:3
END:VEVENT
BEGIN:VEVENT
UID:vcal_63012-cornellbigred.com
DTSTAMP:20260425T162706Z
DTSTART:20251108T200000Z
DTEND:20251108T230000Z
LOCATION:Ithaca\, N.Y., Oxley Equestrian Center
SUMMARY:[N] Cornell Women's Polo vs Red-White Scrimmage - National Championship Banner Ceremony
DESCRIPTION:[N] Cornell Women's Polo vs Red-White Scrimmage - National Championship Banner Ceremony\n\n
URL:https://cornellbigred.com/calendar.aspx?game_id=63012&amp;sport_id=27
PRIORITY:3
END:VEVENT
BEGIN:VEVENT
UID:vcal_63013-cornellbigred.com
DTSTAMP:20260425T162706Z
DTSTART:20251115T230000Z
DTEND:20251116T020000Z
LOCATION:Ithaca\, N.Y., Oxley Equestrian Center
SUMMARY:[W] Cornell Women's Polo vs University of Maryland Polo Club
DESCRIPTION:[W] Cornell Women's Polo vs University of Maryland Polo Club\nW 27-11\n
URL:https://cornellbigred.com/calendar.aspx?game_id=63013&amp;sport_id=27
PRIORITY:3
END:VEVENT
BEGIN:VEVENT
UID:vcal_63014-cornellbigred.com
DTSTAMP:20260425T162706Z
DTSTART:20251121T000000Z
DTEND:20251121T030000Z
LOCATION:Ithaca\, N.Y., Oxley Equestrian Center
SUMMARY:[W] Cornell Women's Polo vs University of Kentucky
DESCRIPTION:[W] Cornell Women's Polo vs University of Kentucky\nW 17-7\n
URL:https://cornellbigred.com/calendar.aspx?game_id=63014&amp;sport_id=27
PRIORITY:3
END:VEVENT
BEGIN:VEVENT
UID:vcal_63102-cornellbigred.com
DTSTAMP:20260425T162706Z
DTSTART:20251122T210000Z
DTEND:20251123T000000Z
LOCATION:Ithaca\, N.Y., Oxley Equestrian Center
SUMMARY:[W] Cornell Women's Polo vs University of Virginia - Championship Game
DESCRIPTION:[W] Cornell Women's Polo vs University of Virginia - Championship Game\nW 17-16\n
URL:https://cornellbigred.com/calendar.aspx?game_id=63102&amp;sport_id=27
PRIORITY:3
END:VEVENT
BEGIN:VEVENT
UID:vcal_63298-cornellbigred.com
DTSTAMP:20260425T162706Z
DTSTART:20260131T230000Z
DTEND:20260201T020000Z
LOCATION:Ithaca\, N.Y., Oxley Equestrian Center
SUMMARY:Cornell Women's Polo vs Red-White Scrimmage
DESCRIPTION:Cornell Women's Polo vs Red-White Scrimmage\n
URL:https://cornellbigred.com/calendar.aspx?game_id=63298&amp;sport_id=27
PRIORITY:3
END:VEVENT
BEGIN:VEVENT
UID:vcal_63299-cornellbigred.com
DTSTAMP:20260425T162706Z
DTSTART:20260207T000000Z
DTEND:20260207T030000Z
LOCATION:Ithaca\, N.Y., Oxley Equestrian Center
SUMMARY:[W] Cornell Women's Polo vs Montana State University
DESCRIPTION:[W] Cornell Women's Polo vs Montana State University\nW 25-3\n
URL:https://cornellbigred.com/calendar.aspx?game_id=63299&amp;sport_id=27
PRIORITY:3
END:VEVENT
BEGIN:VEVENT
UID:vcal_63300-cornellbigred.com
DTSTAMP:20260425T162706Z
DTSTART:20260214T000000Z
DTEND:20260214T030000Z
LOCATION:Ithaca\, N.Y., Oxley Equestrian Center
SUMMARY:[W] Cornell Women's Polo vs Garrison Forest School Polo Club
DESCRIPTION:[W] Cornell Women's Polo vs Garrison Forest School Polo Club\nW 19-15\n
URL:https://cornellbigred.com/calendar.aspx?game_id=63300&amp;sport_id=27
PRIORITY:3
END:VEVENT
BEGIN:VEVENT
UID:vcal_63301-cornellbigred.com
DTSTAMP:20260425T162706Z
DTSTART:20260221T230000Z
DTEND:20260222T020000Z
LOCATION:Ithaca\, N.Y., Oxley Equestrian Center
SUMMARY:[L] Cornell Women's Polo vs Denver Polo Club
DESCRIPTION:[L] Cornell Women's Polo vs Denver Polo Club\nL 10-14\n
URL:https://cornellbigred.com/calendar.aspx?game_id=63301&amp;sport_id=27
PRIORITY:3
END:VEVENT
BEGIN:VEVENT
UID:vcal_63375-cornellbigred.com
DTSTAMP:20260425T162706Z
DTSTART:20260306T220000Z
DTEND:20260307T010000Z
LOCATION:Ithaca\, N.Y., Oxley Equestrian Center
SUMMARY:[W] Cornell Women's Polo vs University of Kentucky
DESCRIPTION:[W] Cornell Women's Polo vs University of Kentucky\nW 23-9\n
URL:https://cornellbigred.com/calendar.aspx?game_id=63375&amp;sport_id=27
PRIORITY:3
END:VEVENT
BEGIN:VEVENT
UID:vcal_63302-cornellbigred.com
DTSTAMP:20260425T162706Z
DTSTART:20260313T230000Z
DTEND:20260314T020000Z
LOCATION:Ithaca\, N.Y., Oxley Equestrian Center
SUMMARY:[W] Cornell Women's Polo vs Marlan Farm Polo Club
DESCRIPTION:[W] Cornell Women's Polo vs Marlan Farm Polo Club\nW 20-7\n
URL:https://cornellbigred.com/calendar.aspx?game_id=63302&amp;sport_id=27
PRIORITY:3
END:VEVENT
BEGIN:VEVENT
UID:vcal_63372-cornellbigred.com
DTSTAMP:20260425T162706Z
DTSTART:20260319T160000Z
DTEND:20260319T190000Z
LOCATION:Oak Point\, Texas
SUMMARY:[L] Cornell Women's Polo vs USC Aiken - Semifinal
DESCRIPTION:[L] Cornell Women's Polo vs USC Aiken - Semifinal\nL 6-25 \nTV: USPA Polo Network\nStreaming Video: https://watch.uspolo.org/\n
URL:https://cornellbigred.com/calendar.aspx?game_id=63372&amp;sport_id=27
PRIORITY:3
END:VEVENT
END:VCALENDAR
