BEGIN:VCALENDAR
VERSION:2.0
PRODID:-//SIDEARM Sports//NONSGML SIDEARM//EN
X-WR-CALNAME:Volleyball - cornellbigred.com
X-PUBLISHED-TTL:PT120M
BEGIN:VEVENT
UID:vcal_62035-cornellbigred.com
DTSTAMP:20260420T044942Z
DTSTART:20250905T230000Z
DTEND:20250906T010000Z
LOCATION:Albany\, N.Y.
SUMMARY:[L] Cornell Volleyball at University at Albany
DESCRIPTION:[L] Cornell Volleyball at University at Albany\nL 1-3\nTV: America East  TV\nStreaming Video: https://americaeast.com/showcase/embed.aspx?Live=17261\n
URL:https://cornellbigred.com/calendar.aspx?game_id=62035&amp;sport_id=35
PRIORITY:3
END:VEVENT
BEGIN:VEVENT
UID:vcal_62037-cornellbigred.com
DTSTAMP:20260420T044942Z
DTSTART:20250906T150000Z
DTEND:20250906T170000Z
LOCATION:Albany\, N.Y.
SUMMARY:[L] Cornell Volleyball vs Syracuse University
DESCRIPTION:[L] Cornell Volleyball vs Syracuse University\nL 2-3\nTV: America East  TV\nStreaming Video: https://americaeast.com/showcase/embed.aspx?Live=17262\n
URL:https://cornellbigred.com/calendar.aspx?game_id=62037&amp;sport_id=35
PRIORITY:3
END:VEVENT
BEGIN:VEVENT
UID:vcal_62036-cornellbigred.com
DTSTAMP:20260420T044942Z
DTSTART:20250906T190000Z
DTEND:20250906T210000Z
LOCATION:Albany\, N.Y.
SUMMARY:[W] Cornell Volleyball vs Canisius University
DESCRIPTION:[W] Cornell Volleyball vs Canisius University\nW 3-1\nTV: America East  TV\nStreaming Video: https://americaeast.com/showcase/embed.aspx?Live=17263\n
URL:https://cornellbigred.com/calendar.aspx?game_id=62036&amp;sport_id=35
PRIORITY:3
END:VEVENT
BEGIN:VEVENT
UID:vcal_62276-cornellbigred.com
DTSTAMP:20260420T044942Z
DTSTART:20250909T233000Z
DTEND:20250910T013000Z
LOCATION:Ithaca\, N.Y., Newman Arena at Bartels Hall
SUMMARY:[W] Cornell Volleyball vs Colgate University
DESCRIPTION:[W] Cornell Volleyball vs Colgate University\nW 3-1\nTV: ESPN+\nStreaming Video: https://www.espn.com/watch/player/_/id/5b3394bc-d676-4a38-aa63-8b337b60797c\n
URL:https://cornellbigred.com/calendar.aspx?game_id=62276&amp;sport_id=35
PRIORITY:3
END:VEVENT
BEGIN:VEVENT
UID:vcal_62038-cornellbigred.com
DTSTAMP:20260420T044942Z
DTSTART:20250912T180000Z
DTEND:20250912T200000Z
LOCATION:Buffalo\, N.Y.
SUMMARY:[W] Cornell Volleyball vs Niagara University
DESCRIPTION:[W] Cornell Volleyball vs Niagara University\nW 3-1\nTV: YouTube\nStreaming Video: https://www.youtube.com/live/g2AUqzl2CTA\nTickets: https://ubbulls.com/sports/2024/7/23/volleyball-ticket-central\n
URL:https://cornellbigred.com/calendar.aspx?game_id=62038&amp;sport_id=35
PRIORITY:3
END:VEVENT
BEGIN:VEVENT
UID:vcal_62039-cornellbigred.com
DTSTAMP:20260420T044942Z
DTSTART:20250913T200000Z
DTEND:20250913T220000Z
LOCATION:Buffalo\, N.Y.
SUMMARY:[L] Cornell Volleyball vs Northwestern University
DESCRIPTION:[L] Cornell Volleyball vs Northwestern University\nL 1-3\nTV: YouTube\nStreaming Video: https://www.youtube.com/live/O8H_7uVYMe8\nTickets: https://ubbulls.com/sports/2024/7/23/volleyball-ticket-central\n
URL:https://cornellbigred.com/calendar.aspx?game_id=62039&amp;sport_id=35
PRIORITY:3
END:VEVENT
BEGIN:VEVENT
UID:vcal_62040-cornellbigred.com
DTSTAMP:20260420T044942Z
DTSTART:20250914T170000Z
DTEND:20250914T190000Z
LOCATION:Buffalo\, N.Y.
SUMMARY:[W] Cornell Volleyball at University at Buffalo
DESCRIPTION:[W] Cornell Volleyball at University at Buffalo\nW 3-1\nTV: YouTube\nStreaming Video: https://youtube.com/live/AStQ5-1DDb0?feature=share\nTickets: https://ubbulls.com/sports/2024/7/23/volleyball-ticket-central\n
URL:https://cornellbigred.com/calendar.aspx?game_id=62040&amp;sport_id=35
PRIORITY:3
END:VEVENT
BEGIN:VEVENT
UID:vcal_62041-cornellbigred.com
DTSTAMP:20260420T044942Z
DTSTART:20250919T160000Z
DTEND:20250919T180000Z
LOCATION:Houston\, Texas
SUMMARY:[L] Cornell Volleyball vs Texas Christian University
DESCRIPTION:[L] Cornell Volleyball vs Texas Christian University\nL 0-3\n
URL:https://cornellbigred.com/calendar.aspx?game_id=62041&amp;sport_id=35
PRIORITY:3
END:VEVENT
BEGIN:VEVENT
UID:vcal_62042-cornellbigred.com
DTSTAMP:20260420T044942Z
DTSTART:20250919T233000Z
DTEND:20250920T013000Z
LOCATION:Houston\, Texas
SUMMARY:[L] Cornell Volleyball at Rice University
DESCRIPTION:[L] Cornell Volleyball at Rice University\nL 0-3\nTV: ESPN+\nStreaming Video: https://www.espn.com/watch/player/_/eventCalendarId/401788005?gameId=401788005&sourceLang=en&om-navmethod=espn:globalsearch:results\n
URL:https://cornellbigred.com/calendar.aspx?game_id=62042&amp;sport_id=35
PRIORITY:3
END:VEVENT
BEGIN:VEVENT
UID:vcal_62043-cornellbigred.com
DTSTAMP:20260420T044942Z
DTSTART:20250920T170000Z
DTEND:20250920T190000Z
LOCATION:Houston\, Texas
SUMMARY:[W] Cornell Volleyball vs Texas A&M - Corpus Christi
DESCRIPTION:[W] Cornell Volleyball vs Texas A&M - Corpus Christi\nW 3-1\n
URL:https://cornellbigred.com/calendar.aspx?game_id=62043&amp;sport_id=35
PRIORITY:3
END:VEVENT
BEGIN:VEVENT
UID:vcal_62044-cornellbigred.com
DTSTAMP:20260420T044942Z
DTSTART:20250927T220000Z
DTEND:20250928T000000Z
LOCATION:New York\, N.Y.
SUMMARY:[W] Cornell Volleyball at Columbia University
DESCRIPTION:[W] Cornell Volleyball at Columbia University\nW 3-0\nTV: ESPN+\nStreaming Video: https://www.espn.com/watch/player/_/id/bb98f58d-0064-48eb-b65b-8f4c7d83fbc0\n
URL:https://cornellbigred.com/calendar.aspx?game_id=62044&amp;sport_id=35
PRIORITY:3
END:VEVENT
BEGIN:VEVENT
UID:vcal_62045-cornellbigred.com
DTSTAMP:20260420T044942Z
DTSTART:20251003T230000Z
DTEND:20251004T010000Z
LOCATION:Ithaca\, N.Y., Newman Arena at Bartels Hall
SUMMARY:[W] Cornell Volleyball vs Harvard University
DESCRIPTION:[W] Cornell Volleyball vs Harvard University\nW 3-0\nTV: ESPN+\nStreaming Video: https://www.espn.com/watch/player/_/id/80be4526-5636-424e-99c0-cdfaa670ee76\n
URL:https://cornellbigred.com/calendar.aspx?game_id=62045&amp;sport_id=35
PRIORITY:3
END:VEVENT
BEGIN:VEVENT
UID:vcal_62046-cornellbigred.com
DTSTAMP:20260420T044942Z
DTSTART:20251004T220000Z
DTEND:20251005T000000Z
LOCATION:Ithaca\, N.Y., Newman Arena at Bartels Hall
SUMMARY:[W] Cornell Volleyball vs Dartmouth College
DESCRIPTION:[W] Cornell Volleyball vs Dartmouth College\nW 3-0\nTV: ESPN+\nStreaming Video: https://www.espn.com/watch/player/_/id/c93d1ef0-2cb4-4e0d-a041-328d2ee88939\n
URL:https://cornellbigred.com/calendar.aspx?game_id=62046&amp;sport_id=35
PRIORITY:3
END:VEVENT
BEGIN:VEVENT
UID:vcal_62047-cornellbigred.com
DTSTAMP:20260420T044942Z
DTSTART:20251010T230000Z
DTEND:20251011T010000Z
LOCATION:Ithaca\, N.Y., Newman Arena at Bartels Hall
SUMMARY:[W] Cornell Volleyball vs Brown University
DESCRIPTION:[W] Cornell Volleyball vs Brown University\nW 3-1\nTV: ESPN+\nStreaming Video: https://www.espn.com/watch/player/_/id/22ff505e-7789-46a6-840e-8cea12ee6986\n
URL:https://cornellbigred.com/calendar.aspx?game_id=62047&amp;sport_id=35
PRIORITY:3
END:VEVENT
BEGIN:VEVENT
UID:vcal_62048-cornellbigred.com
DTSTAMP:20260420T044942Z
DTSTART:20251011T220000Z
DTEND:20251012T000000Z
LOCATION:Ithaca\, N.Y., Newman Arena at Bartels Hall
SUMMARY:[W] Cornell Volleyball vs Yale University
DESCRIPTION:[W] Cornell Volleyball vs Yale University\nW 3-0\nTV: ESPN+\nStreaming Video: https://www.espn.com/search/_/q/cornell/o/watch/appearance/dark\n
URL:https://cornellbigred.com/calendar.aspx?game_id=62048&amp;sport_id=35
PRIORITY:3
END:VEVENT
BEGIN:VEVENT
UID:vcal_62049-cornellbigred.com
DTSTAMP:20260420T044942Z
DTSTART:20251017T230000Z
DTEND:20251018T010000Z
LOCATION:Princeton\, N.J.
SUMMARY:[W] Cornell Volleyball at Princeton University
DESCRIPTION:[W] Cornell Volleyball at Princeton University\nW 3-2\nTV: ESPN+\nStreaming Video: https://www.espn.com/watch/player/_/id/9fabfed5-f18d-402d-8cf7-ac8c6247c7dc\n
URL:https://cornellbigred.com/calendar.aspx?game_id=62049&amp;sport_id=35
PRIORITY:3
END:VEVENT
BEGIN:VEVENT
UID:vcal_62050-cornellbigred.com
DTSTAMP:20260420T044942Z
DTSTART:20251018T210000Z
DTEND:20251018T230000Z
LOCATION:Philadelphia\, Pa.
SUMMARY:[L] Cornell Volleyball at University of Pennsylvania
DESCRIPTION:[L] Cornell Volleyball at University of Pennsylvania\nL 0-3\nTV: ESPN+\nStreaming Video: https://www.espn.com/watch/player/_/id/f94e0482-96a9-4438-a0a8-bf891e4691ce\n
URL:https://cornellbigred.com/calendar.aspx?game_id=62050&amp;sport_id=35
PRIORITY:3
END:VEVENT
BEGIN:VEVENT
UID:vcal_62051-cornellbigred.com
DTSTAMP:20260420T044942Z
DTSTART:20251025T180000Z
DTEND:20251025T200000Z
LOCATION:Ithaca\, N.Y., Newman Arena at Bartels Hall
SUMMARY:[W] Cornell Volleyball vs Columbia University
DESCRIPTION:[W] Cornell Volleyball vs Columbia University\nW 3-1\nTV: ESPN+\nStreaming Video: https://www.espn.com/watch/player/_/id/726c6b0b-4f45-487e-b75b-e13ce0606525\n
URL:https://cornellbigred.com/calendar.aspx?game_id=62051&amp;sport_id=35
PRIORITY:3
END:VEVENT
BEGIN:VEVENT
UID:vcal_62052-cornellbigred.com
DTSTAMP:20260420T044942Z
DTSTART:20251031T220000Z
DTEND:20251101T000000Z
LOCATION:Hanover\, N.H.
SUMMARY:[L] Cornell Volleyball at Dartmouth College
DESCRIPTION:[L] Cornell Volleyball at Dartmouth College\nL 2-3\nTV: ESPN+\nStreaming Video: https://www.espn.com/watch/player/_/id/8a696ed9-023a-49e5-88af-38919f21a84c\n
URL:https://cornellbigred.com/calendar.aspx?game_id=62052&amp;sport_id=35
PRIORITY:3
END:VEVENT
BEGIN:VEVENT
UID:vcal_62053-cornellbigred.com
DTSTAMP:20260420T044942Z
DTSTART:20251101T220000Z
DTEND:20251102T000000Z
LOCATION:Cambridge\, Mass.
SUMMARY:[W] Cornell Volleyball at Harvard University
DESCRIPTION:[W] Cornell Volleyball at Harvard University\nW 3-0\nTV: ESPN+\nStreaming Video: https://www.espn.com/watch/player/_/id/28522c33-0587-4816-abf2-5efd33a2c7b6\n
URL:https://cornellbigred.com/calendar.aspx?game_id=62053&amp;sport_id=35
PRIORITY:3
END:VEVENT
BEGIN:VEVENT
UID:vcal_62054-cornellbigred.com
DTSTAMP:20260420T044942Z
DTSTART:20251108T000000Z
DTEND:20251108T020000Z
LOCATION:Ithaca\, N.Y., Newman Arena at Bartels Hall
SUMMARY:[W] Cornell Volleyball vs University of Pennsylvania
DESCRIPTION:[W] Cornell Volleyball vs University of Pennsylvania\nW 3-1\nTV: ESPN+\nStreaming Video: https://www.espn.com/watch/player/_/id/225e9f16-09a4-44d6-b154-97689622bbb4\n
URL:https://cornellbigred.com/calendar.aspx?game_id=62054&amp;sport_id=35
PRIORITY:3
END:VEVENT
BEGIN:VEVENT
UID:vcal_62055-cornellbigred.com
DTSTAMP:20260420T044942Z
DTSTART:20251108T230000Z
DTEND:20251109T010000Z
LOCATION:Ithaca\, N.Y., Newman Arena at Bartels Hall
SUMMARY:[L] Cornell Volleyball vs Princeton University
DESCRIPTION:[L] Cornell Volleyball vs Princeton University\nL 0-3\nTV: ESPN+\nStreaming Video: https://www.espn.com/watch/player/_/id/28358e22-4a7b-442d-a39b-7e8a58ca77c6\n
URL:https://cornellbigred.com/calendar.aspx?game_id=62055&amp;sport_id=35
PRIORITY:3
END:VEVENT
BEGIN:VEVENT
UID:vcal_62056-cornellbigred.com
DTSTAMP:20260420T044942Z
DTSTART:20251115T000000Z
DTEND:20251115T020000Z
LOCATION:New Haven\, Conn.
SUMMARY:[L] Cornell Volleyball at Yale University
DESCRIPTION:[L] Cornell Volleyball at Yale University\nL 0-3\nTV: ESPN+\nStreaming Video: https://www.espn.com/watch/player/_/id/262901e5-9a7a-41ec-bc7a-efffbeb91c05\n
URL:https://cornellbigred.com/calendar.aspx?game_id=62056&amp;sport_id=35
PRIORITY:3
END:VEVENT
BEGIN:VEVENT
UID:vcal_62057-cornellbigred.com
DTSTAMP:20260420T044942Z
DTSTART:20251115T230000Z
DTEND:20251116T010000Z
LOCATION:Providence\, R.I.
SUMMARY:[W] Cornell Volleyball at Brown University
DESCRIPTION:[W] Cornell Volleyball at Brown University\nW 3-0\nTV: ESPN+\nStreaming Video: https://www.espn.com/watch/player/_/id/7d8c464c-4db1-4611-951e-7f5083a47e46\n
URL:https://cornellbigred.com/calendar.aspx?game_id=62057&amp;sport_id=35
PRIORITY:3
END:VEVENT
BEGIN:VEVENT
UID:vcal_63080-cornellbigred.com
DTSTAMP:20260420T044942Z
DTSTART:20251122T000000Z
DTEND:20251122T020000Z
LOCATION:Princeton\, NJ
SUMMARY:[L] Cornell Volleyball vs Yale University
DESCRIPTION:[L] Cornell Volleyball vs Yale University\nL 2-3\nTV: ESPN+\nStreaming Video: https://www.espn.com/watch/player/_/id/f9a4954f-8e35-49df-a66b-ebab9d0c8fc5\nTickets: https://nam12.safelinks.protection.outlook.com/?url=https://ivylg.co/25VBTix&data=05|02|ea474@cornell.edu|b6fcf47a3a78499db61108de260042c9|5d7e43661b9b45cf8e79b14b27df46e1|0|0|638989980015195941|Unknown|TWFpbGZsb3d8eyJFbXB0eU1hcGkiOnRydWUsIlYiOiIwLjAuMDAwMCIsIlAiOiJXaW4zMiIsIkFOIjoiTWFpbCIsIldUIjoyfQ==|0|||&sdata=anYQV5nQjYLAuyiPjJDiwYGPtvKrIDD5eZWCvoQBvZQ=&reserved=0\n
URL:https://cornellbigred.com/calendar.aspx?game_id=63080&amp;sport_id=35
PRIORITY:3
END:VEVENT
END:VCALENDAR
